BEGIN:VCALENDAR
VERSION:2.0
PRODID:-//Mental Health Association of Central Australia - ECPv6.14.2//NONSGML v1.0//EN
CALSCALE:GREGORIAN
METHOD:PUBLISH
X-ORIGINAL-URL:https://www.mhaca.org.au
X-WR-CALDESC:Events for Mental Health Association of Central Australia
REFRESH-INTERVAL;VALUE=DURATION:PT1H
X-Robots-Tag:noindex
X-PUBLISHED-TTL:PT1H
BEGIN:VTIMEZONE
TZID:Australia/Darwin
BEGIN:STANDARD
TZOFFSETFROM:+0930
TZOFFSETTO:+0930
TZNAME:ACST
DTSTART:20230101T000000
END:STANDARD
END:VTIMEZONE
BEGIN:VEVENT
DTSTART;TZID=Australia/Darwin:20230616T113000
DTEND;TZID=Australia/Darwin:20230616T130000
DTSTAMP:20260423T232922
CREATED:20230606T023404Z
LAST-MODIFIED:20230606T023404Z
UID:5081-1686915000-1686920400@www.mhaca.org.au
SUMMARY:Men's Mental Health Day
DESCRIPTION:Join MHACA on the Uniting Church Lawns in the Todd Mall for Men’s Mental Health Day\, as part of Men’s Health Week national activities. \nWith speakers\, fun activities\, information stalls\, a Men’s Wellbeing Hamper lucky draw\, and a free healthy BBQ. \nThis is a free community event\, all are welcome. \nWhen: 11.30am-1pm Friday 16 June \nWhere: Uniting Church Lawns\, 50 Todd St\, Alice Springs
URL:https://www.mhaca.org.au/event/mens-mental-health-day/
LOCATION:Uniting Church Lawns\, 50 Todd St\, East Side\, Northern Territory\, 0870\, Australia
CATEGORIES:Events
ATTACH;FMTTYPE=image/jpeg:https://www.mhaca.org.au/wp-content/uploads/2023/06/Mens-Mental-Health-Day-BBQ.jpg
ORGANIZER;CN="MHACA":MAILTO:healthpromotion@mhaca.org.au
END:VEVENT
END:VCALENDAR