BEGIN:VCALENDAR
VERSION:2.0
PRODID:-//Mental Health Association of Central Australia - ECPv6.14.2//NONSGML v1.0//EN
CALSCALE:GREGORIAN
METHOD:PUBLISH
X-WR-CALNAME:Mental Health Association of Central Australia
X-ORIGINAL-URL:https://www.mhaca.org.au
X-WR-CALDESC:Events for Mental Health Association of Central Australia
REFRESH-INTERVAL;VALUE=DURATION:PT1H
X-Robots-Tag:noindex
X-PUBLISHED-TTL:PT1H
BEGIN:VTIMEZONE
TZID:Australia/Darwin
BEGIN:STANDARD
TZOFFSETFROM:+0930
TZOFFSETTO:+0930
TZNAME:ACST
DTSTART:20230101T000000
END:STANDARD
END:VTIMEZONE
BEGIN:VEVENT
DTSTART;TZID=Australia/Darwin:20230510T083000
DTEND;TZID=Australia/Darwin:20230511T160000
DTSTAMP:20260425T215038
CREATED:20230427T014732Z
LAST-MODIFIED:20230427T014836Z
UID:4977-1683707400-1683820800@www.mhaca.org.au
SUMMARY:Central Australia Suicide Prevention Forum
DESCRIPTION:The Central Australian Suicide Prevention Forum will be held on Wednesday 10 and Thursday 11 May 2023 at the Desert Knowledge Precinct\, Alice Springs. \nThe forum has a focus on keeping the conversation happening in our community about preventing suicide and showcasing successful suicide prevention and postvention initiatives. \nHere’s a short video from last year’s forum: https://youtu.be/55YP783MxtE \nAttending the forum is free\, and lunch and refreshments are provided\, however registrations are essential as places are limited due to venue capacity. \nPlease express interest in attending by emailing healthpromotion@mhaca.org.au by Wednesday 3 May.
URL:https://www.mhaca.org.au/event/central-australia-suicide-prevention-forum/
LOCATION:Desert Knowledge Precinct\, 475 South Stuart Hwy\,\, Alice Springs\, 0870
CATEGORIES:Events
ATTACH;FMTTYPE=image/jpeg:https://www.mhaca.org.au/wp-content/uploads/2023/04/Flowers-web-banner.jpg
ORGANIZER;CN="MHACA":MAILTO:healthpromotion@mhaca.org.au
END:VEVENT
END:VCALENDAR